{
 "currentVersion": 10.91,
 "cimVersion": "2.9.0",
 "serviceDescription": " 6-inch Aerial Imagery from 2019<\/span><\/p><\/div>",
 "mapName": "AerialCache2019",
 "description": "",
 "copyrightText": "Gresham GIS",
 "supportsDynamicLayers": false,
 "layers": [
  {
   "id": 0,
   "name": "AerialPhotoExtent",
   "parentLayerId": -1,
   "defaultVisibility": true,
   "subLayerIds": null,
   "minScale": 0,
   "maxScale": 0,
   "type": "Feature Layer",
   "geometryType": "esriGeometryPolygon",
   "supportsDynamicLegends": true
  }
 ],
 "tables": [],
 "spatialReference": {
  "wkid": 2913,
  "latestWkid": 2913,
  "xyTolerance": 0.0032808398950131233,
  "zTolerance": 0.001,
  "mTolerance": 0.001,
  "falseX": -111333600,
  "falseY": -98152500,
  "xyUnits": 3048,
  "falseZ": -100000,
  "zUnits": 10000,
  "falseM": -100000,
  "mUnits": 10000
 },
 "singleFusedMapCache": true,
 "tileInfo": {
  "rows": 256,
  "cols": 256,
  "dpi": 96,
  "format": "PNG8",
  "compressionQuality": 0,
  "origin": {
   "x": -111333600,
   "y": 140918900
  },
  "spatialReference": {
   "wkid": 2913,
   "latestWkid": 2913,
   "xyTolerance": 0.0032808398950131233,
   "zTolerance": 2.0E-4,
   "mTolerance": 2.0E-4,
   "falseX": -111333600,
   "falseY": -98152500,
   "xyUnits": 3.767577073100752E7,
   "falseZ": -100000,
   "zUnits": 10000,
   "falseM": -100000,
   "mUnits": 10000
  },
  "lods": [
   {
    "level": 0,
    "resolution": 86.8057291670139,
    "scale": 100000
   },
   {
    "level": 1,
    "resolution": 66.66680000026666,
    "scale": 76800
   },
   {
    "level": 2,
    "resolution": 33.33340000013333,
    "scale": 38400
   },
   {
    "level": 3,
    "resolution": 16.666700000066665,
    "scale": 19200
   },
   {
    "level": 4,
    "resolution": 8.333350000033333,
    "scale": 9600
   },
   {
    "level": 5,
    "resolution": 4.166675000016666,
    "scale": 4800
   },
   {
    "level": 6,
    "resolution": 2.083337500008333,
    "scale": 2400
   },
   {
    "level": 7,
    "resolution": 1.0416687500041666,
    "scale": 1200
   },
   {
    "level": 8,
    "resolution": 0.5208343750020833,
    "scale": 600
   },
   {
    "level": 9,
    "resolution": 0.26041718750104165,
    "scale": 300
   }
  ]
 },
 "storageInfo": {
  "storageFormat": "esriMapCacheStorageModeCompactV2",
  "packetSize": 128
 },
 "initialExtent": {
  "xmin": 7597189.976961854,
  "ymin": 621591.695320951,
  "xmax": 7814936.14065252,
  "ymax": 736183.5812671788,
  "spatialReference": {
   "wkid": 2913,
   "latestWkid": 2913,
   "xyTolerance": 0.0032808398950131233,
   "zTolerance": 0.001,
   "mTolerance": 0.001,
   "falseX": -111333600,
   "falseY": -98152500,
   "xyUnits": 3048,
   "falseZ": -100000,
   "zUnits": 10000,
   "falseM": -100000,
   "mUnits": 10000
  }
 },
 "fullExtent": {
  "xmin": 7657373.8791386895,
  "ymin": 626870.4720235494,
  "xmax": 7754752.238475683,
  "ymax": 730904.8045645803,
  "spatialReference": {
   "wkid": 2913,
   "latestWkid": 2913,
   "xyTolerance": 0.0032808398950131233,
   "zTolerance": 0.001,
   "mTolerance": 0.001,
   "falseX": -111333600,
   "falseY": -98152500,
   "xyUnits": 3048,
   "falseZ": -100000,
   "zUnits": 10000,
   "falseM": -100000,
   "mUnits": 10000
  }
 },
 "datesInUnknownTimezone": false,
 "minScale": 100000,
 "maxScale": 300,
 "units": "esriFeet",
 "supportedImageFormatTypes": "PNG32,PNG24,PNG,JPG,DIB,TIFF,EMF,PS,PDF,GIF,SVG,SVGZ,BMP",
 "documentInfo": {
  "Title": "Map",
  "Author": "",
  "Comments": "",
  "Subject": "",
  "Category": "",
  "AntialiasingMode": "Fast",
  "TextAntialiasingMode": "Force",
  "Version": "2.7.0",
  "Keywords": "Aerial Image"
 },
 "supportsQueryDomains": true,
 "capabilities": "Map",
 "supportedQueryFormats": "JSON, geoJSON, PBF",
 "exportTilesAllowed": false,
 "referenceScale": 0.0,
 "datumTransformations": [
  {
   "geoTransforms": [
    {
     "wkid": 1580,
     "latestWkid": 1580,
     "transformForward": false,
     "name": "NAD_1983_HARN_To_WGS_1984"
    }
   ]
  },
  {
   "geoTransforms": [
    {
     "wkid": 1580,
     "latestWkid": 1580,
     "transformForward": true,
     "name": "NAD_1983_HARN_To_WGS_1984"
    }
   ]
  },
  {
   "geoTransforms": [
    {
     "wkid": 1580,
     "latestWkid": 1580,
     "transformForward": false,
     "name": "NAD_1983_HARN_To_WGS_1984"
    }
   ]
  },
  {
   "geoTransforms": [
    {
     "wkid": 1580,
     "latestWkid": 1580,
     "transformForward": true,
     "name": "NAD_1983_HARN_To_WGS_1984"
    }
   ]
  }
 ],
 "supportsDatumTransformation": true,
 "archivingInfo": {
  "supportsHistoricMoment": false
 },
 "supportsClipping": true,
 "supportsSpatialFilter": true,
 "supportsTimeRelation": true,
 "supportsQueryDataElements": true,
 "maxRecordCount": 2000,
 "maxImageHeight": 4096,
 "maxImageWidth": 4096,
 "supportedExtensions": "",
 "serviceItemId": "3afc079693b3426384422ea1fff3c66a"
}
